BEGIN:VCALENDAR
VERSION:2.0
PRODID:-//Sittardse Bowling Vereniging - ECPv6.15.20//NONSGML v1.0//EN
CALSCALE:GREGORIAN
METHOD:PUBLISH
X-ORIGINAL-URL:https://bowlingsittard.eu
X-WR-CALDESC:Evenementen voor Sittardse Bowling Vereniging
REFRESH-INTERVAL;VALUE=DURATION:PT1H
X-Robots-Tag:noindex
X-PUBLISHED-TTL:PT1H
BEGIN:VTIMEZONE
TZID:UTC
BEGIN:STANDARD
TZOFFSETFROM:+0000
TZOFFSETTO:+0000
TZNAME:UTC
DTSTART:20230101T000000
END:STANDARD
END:VTIMEZONE
BEGIN:VEVENT
DTSTART;TZID=UTC:20241205T193000
DTEND;TZID=UTC:20241205T220000
DTSTAMP:20260422T152114
CREATED:20241203T192652Z
LAST-MODIFIED:20241203T194717Z
UID:3737-1733427000-1733436000@bowlingsittard.eu
SUMMARY:Canadian Corner League
DESCRIPTION:
URL:https://bowlingsittard.eu/agenda-item/canadian-corner-league/
LOCATION:Stardust All American Bowling\, Netherlands
CATEGORIES:Agenda Sittardse Bowling Vereniging
END:VEVENT
BEGIN:VEVENT
DTSTART;TZID=UTC:20241202T193000
DTEND;TZID=UTC:20241202T220000
DTSTAMP:20260422T152114
CREATED:20241203T193644Z
LAST-MODIFIED:20241203T194734Z
UID:3754-1733167800-1733176800@bowlingsittard.eu
SUMMARY:Maandag Master League
DESCRIPTION:
URL:https://bowlingsittard.eu/agenda-item/maandag-master-league-2/
LOCATION:Stardust All American Bowling\, Netherlands
CATEGORIES:Agenda Sittardse Bowling Vereniging
END:VEVENT
BEGIN:VEVENT
DTSTART;TZID=UTC:20241128T193000
DTEND;TZID=UTC:20241128T220000
DTSTAMP:20260422T152114
CREATED:20241203T193247Z
LAST-MODIFIED:20241203T194752Z
UID:3744-1732822200-1732831200@bowlingsittard.eu
SUMMARY:Canadian Corner League
DESCRIPTION:
URL:https://bowlingsittard.eu/agenda-item/canadian-corner-league-2/
LOCATION:Stardust All American Bowling\, Netherlands
CATEGORIES:Agenda Sittardse Bowling Vereniging
END:VEVENT
BEGIN:VEVENT
DTSTART;TZID=UTC:20241125T193000
DTEND;TZID=UTC:20241125T220000
DTSTAMP:20260422T152114
CREATED:20241203T193609Z
LAST-MODIFIED:20241203T194810Z
UID:3752-1732563000-1732572000@bowlingsittard.eu
SUMMARY:Maandag Master League
DESCRIPTION:
URL:https://bowlingsittard.eu/agenda-item/maandag-master-league/
LOCATION:Stardust All American Bowling\, Netherlands
CATEGORIES:Agenda Sittardse Bowling Vereniging
END:VEVENT
END:VCALENDAR